BEGIN:VCALENDAR
VERSION:2.0
PRODID:-//Camden Braes - ECPv6.15.20//NONSGML v1.0//EN
CALSCALE:GREGORIAN
METHOD:PUBLISH
X-ORIGINAL-URL:http://www.camdenbraes.com
X-WR-CALDESC:Events for Camden Braes
REFRESH-INTERVAL;VALUE=DURATION:PT1H
X-Robots-Tag:noindex
X-PUBLISHED-TTL:PT1H
BEGIN:VTIMEZONE
TZID:America/Toronto
BEGIN:DAYLIGHT
TZOFFSETFROM:-0500
TZOFFSETTO:-0400
TZNAME:EDT
DTSTART:20230312T070000
END:DAYLIGHT
BEGIN:STANDARD
TZOFFSETFROM:-0400
TZOFFSETTO:-0500
TZNAME:EST
DTSTART:20231105T060000
END:STANDARD
BEGIN:DAYLIGHT
TZOFFSETFROM:-0500
TZOFFSETTO:-0400
TZNAME:EDT
DTSTART:20240310T070000
END:DAYLIGHT
BEGIN:STANDARD
TZOFFSETFROM:-0400
TZOFFSETTO:-0500
TZNAME:EST
DTSTART:20241103T060000
END:STANDARD
BEGIN:DAYLIGHT
TZOFFSETFROM:-0500
TZOFFSETTO:-0400
TZNAME:EDT
DTSTART:20250309T070000
END:DAYLIGHT
BEGIN:STANDARD
TZOFFSETFROM:-0400
TZOFFSETTO:-0500
TZNAME:EST
DTSTART:20251102T060000
END:STANDARD
END:VTIMEZONE
BEGIN:VEVENT
DTSTART;VALUE=DATE:20240630
DTEND;VALUE=DATE:20240701
DTSTAMP:20260419T132757
CREATED:20160323T025903Z
LAST-MODIFIED:20240429T214554Z
UID:355-1719705600-1719791999@www.camdenbraes.com
SUMMARY:Members Mulligan - Semmelhaack Memorial
DESCRIPTION:A few days following “National Aboriginal Day”. It’s only fitting we honor Ralph Semmelhaacks Memorial Mulligan Golf Tournament. \nOnly fun tournament you will be given Mulligans!
URL:http://www.camdenbraes.com/events/wagon-burners-ralph-semmelhaack-memorial/
LOCATION:Camden Braes Golf & Country Club\, 1459 Simmons Road\, Odessa\, ON\, K0H 2H0\, Canada
CATEGORIES:All Events & Holidays,Members Only,Tournaments
END:VEVENT
END:VCALENDAR