BEGIN:VCALENDAR
VERSION:2.0
PRODID:-//Camden Braes - ECPv6.15.20//NONSGML v1.0//EN
CALSCALE:GREGORIAN
METHOD:PUBLISH
X-WR-CALNAME:Camden Braes
X-ORIGINAL-URL:http://www.camdenbraes.com
X-WR-CALDESC:Events for Camden Braes
REFRESH-INTERVAL;VALUE=DURATION:PT1H
X-Robots-Tag:noindex
X-PUBLISHED-TTL:PT1H
BEGIN:VTIMEZONE
TZID:America/Toronto
BEGIN:DAYLIGHT
TZOFFSETFROM:-0500
TZOFFSETTO:-0400
TZNAME:EDT
DTSTART:20230312T070000
END:DAYLIGHT
BEGIN:STANDARD
TZOFFSETFROM:-0400
TZOFFSETTO:-0500
TZNAME:EST
DTSTART:20231105T060000
END:STANDARD
BEGIN:DAYLIGHT
TZOFFSETFROM:-0500
TZOFFSETTO:-0400
TZNAME:EDT
DTSTART:20240310T070000
END:DAYLIGHT
BEGIN:STANDARD
TZOFFSETFROM:-0400
TZOFFSETTO:-0500
TZNAME:EST
DTSTART:20241103T060000
END:STANDARD
BEGIN:DAYLIGHT
TZOFFSETFROM:-0500
TZOFFSETTO:-0400
TZNAME:EDT
DTSTART:20250309T070000
END:DAYLIGHT
BEGIN:STANDARD
TZOFFSETFROM:-0400
TZOFFSETTO:-0500
TZNAME:EST
DTSTART:20251102T060000
END:STANDARD
END:VTIMEZONE
BEGIN:VEVENT
DTSTART;TZID=America/Toronto:20240607T100000
DTEND;TZID=America/Toronto:20240609T190000
DTSTAMP:20260419T150237
CREATED:20160412T114514Z
LAST-MODIFIED:20240429T214822Z
UID:3220-1717754400-1717959600@www.camdenbraes.com
SUMMARY:Camden Cup Team Event
DESCRIPTION:Plan ahead for this amazing team event. Great way to meet new members. Always a very close finish with lots of laughs and good heap of pride on the line! \nMatch Play Team event – 36 men and women\, 12 per team Teams drafted by captains.\nincludes:\n3 rounds of golf\nPrizes & team Celebration at the Braes ‘n Ale Pub & Grill for putting contest winners.\nDaily prizing for Closest to the Hole\nGolf Shirt embroidered with Camden Braes Logo & Camden Cup Crest\nDinner at the Sunday evening banquet\nWinners names on the trophy and much much more. \nCLICK HERE TO SEE ALL PAST CAMDEN CUP’S HERE
URL:http://www.camdenbraes.com/events/camden-cup-2/
CATEGORIES:All Events & Holidays,Members Only,Tournaments
ATTACH;FMTTYPE=image/jpeg:http://www.camdenbraes.com/wp-content/uploads/2016/04/all-3-teams-scaled.jpg
END:VEVENT
END:VCALENDAR