BEGIN:VCALENDAR
VERSION:2.0
PRODID:-//Camden Braes - ECPv6.15.20//NONSGML v1.0//EN
CALSCALE:GREGORIAN
METHOD:PUBLISH
X-WR-CALNAME:Camden Braes
X-ORIGINAL-URL:http://www.camdenbraes.com
X-WR-CALDESC:Events for Camden Braes
REFRESH-INTERVAL;VALUE=DURATION:PT1H
X-Robots-Tag:noindex
X-PUBLISHED-TTL:PT1H
BEGIN:VTIMEZONE
TZID:America/Toronto
BEGIN:DAYLIGHT
TZOFFSETFROM:-0500
TZOFFSETTO:-0400
TZNAME:EDT
DTSTART:20230312T070000
END:DAYLIGHT
BEGIN:STANDARD
TZOFFSETFROM:-0400
TZOFFSETTO:-0500
TZNAME:EST
DTSTART:20231105T060000
END:STANDARD
BEGIN:DAYLIGHT
TZOFFSETFROM:-0500
TZOFFSETTO:-0400
TZNAME:EDT
DTSTART:20240310T070000
END:DAYLIGHT
BEGIN:STANDARD
TZOFFSETFROM:-0400
TZOFFSETTO:-0500
TZNAME:EST
DTSTART:20241103T060000
END:STANDARD
BEGIN:DAYLIGHT
TZOFFSETFROM:-0500
TZOFFSETTO:-0400
TZNAME:EDT
DTSTART:20250309T070000
END:DAYLIGHT
BEGIN:STANDARD
TZOFFSETFROM:-0400
TZOFFSETTO:-0500
TZNAME:EST
DTSTART:20251102T060000
END:STANDARD
END:VTIMEZONE
BEGIN:VEVENT
DTSTART;VALUE=DATE:20240526
DTEND;VALUE=DATE:20240527
DTSTAMP:20260419T150359
CREATED:20160412T115906Z
LAST-MODIFIED:20240429T215327Z
UID:3238-1716681600-1716767999@www.camdenbraes.com
SUMMARY:Member's Opening Day Tournament
DESCRIPTION:Your First Member Tournament of the season. Come out and find out why Camden Braes has the kindest membership. Join up and help us all get to know your 2024 membership family. \nLike minded people having a great time playing the sport we all love. \nCLICK HERE TO SEE ALL PAST MEMBER’S EVENTS
URL:http://www.camdenbraes.com/events/members-opening-day-2/
CATEGORIES:All Events & Holidays,Members Only,Tournaments
ATTACH;FMTTYPE=image/jpeg:http://www.camdenbraes.com/wp-content/uploads/2018/06/images.jpg
END:VEVENT
END:VCALENDAR