BEGIN:VCALENDAR
VERSION:2.0
PRODID:-//Camden Braes - ECPv6.15.20//NONSGML v1.0//EN
CALSCALE:GREGORIAN
METHOD:PUBLISH
X-WR-CALNAME:Camden Braes
X-ORIGINAL-URL:http://www.camdenbraes.com
X-WR-CALDESC:Events for Camden Braes
REFRESH-INTERVAL;VALUE=DURATION:PT1H
X-Robots-Tag:noindex
X-PUBLISHED-TTL:PT1H
BEGIN:VTIMEZONE
TZID:America/Toronto
BEGIN:DAYLIGHT
TZOFFSETFROM:-0500
TZOFFSETTO:-0400
TZNAME:EDT
DTSTART:20230312T070000
END:DAYLIGHT
BEGIN:STANDARD
TZOFFSETFROM:-0400
TZOFFSETTO:-0500
TZNAME:EST
DTSTART:20231105T060000
END:STANDARD
BEGIN:DAYLIGHT
TZOFFSETFROM:-0500
TZOFFSETTO:-0400
TZNAME:EDT
DTSTART:20240310T070000
END:DAYLIGHT
BEGIN:STANDARD
TZOFFSETFROM:-0400
TZOFFSETTO:-0500
TZNAME:EST
DTSTART:20241103T060000
END:STANDARD
BEGIN:DAYLIGHT
TZOFFSETFROM:-0500
TZOFFSETTO:-0400
TZNAME:EDT
DTSTART:20250309T070000
END:DAYLIGHT
BEGIN:STANDARD
TZOFFSETFROM:-0400
TZOFFSETTO:-0500
TZNAME:EST
DTSTART:20251102T060000
END:STANDARD
END:VTIMEZONE
BEGIN:VEVENT
DTSTART;TZID=America/Toronto:20240929T090000
DTEND;TZID=America/Toronto:20240929T140000
DTSTAMP:20260419T082636
CREATED:20200331T183750Z
LAST-MODIFIED:20240429T201153Z
UID:12933-1727600400-1727618400@www.camdenbraes.com
SUMMARY:Members Turkey Shoot
DESCRIPTION:Hate the hassle of buying a thanksgiving turkey? How about golfing for one?  Our Turkeys shoot is a fun 18 holes of golf where the top performers get to take home a Thanksgiving turkey! Didn’t play well ? Don’t worry you wont go home empty handed\, we’ll send you home with a full chicken instead. \n  \nAll Ages\, must be a member of Camden Braes.
URL:http://www.camdenbraes.com/events/members-turkey-shoot/
LOCATION:Camden Braes Golf & Country Club\, 1459 Simmons Road\, Odessa\, ON\, K0H 2H0\, Canada
CATEGORIES:Members Only,Tournaments
ATTACH;FMTTYPE=image/jpeg:http://www.camdenbraes.com/wp-content/uploads/2020/03/Turkey-golf.jpg
ORGANIZER;CN="Brian Wolfram":MAILTO:brian@camdenbraes.com
END:VEVENT
END:VCALENDAR