BEGIN:VCALENDAR
VERSION:2.0
PRODID:-//Camden Braes - ECPv6.15.20//NONSGML v1.0//EN
CALSCALE:GREGORIAN
METHOD:PUBLISH
X-ORIGINAL-URL:http://www.camdenbraes.com
X-WR-CALDESC:Events for Camden Braes
REFRESH-INTERVAL;VALUE=DURATION:PT1H
X-Robots-Tag:noindex
X-PUBLISHED-TTL:PT1H
BEGIN:VTIMEZONE
TZID:America/Toronto
BEGIN:DAYLIGHT
TZOFFSETFROM:-0500
TZOFFSETTO:-0400
TZNAME:EDT
DTSTART:20230312T070000
END:DAYLIGHT
BEGIN:STANDARD
TZOFFSETFROM:-0400
TZOFFSETTO:-0500
TZNAME:EST
DTSTART:20231105T060000
END:STANDARD
BEGIN:DAYLIGHT
TZOFFSETFROM:-0500
TZOFFSETTO:-0400
TZNAME:EDT
DTSTART:20240310T070000
END:DAYLIGHT
BEGIN:STANDARD
TZOFFSETFROM:-0400
TZOFFSETTO:-0500
TZNAME:EST
DTSTART:20241103T060000
END:STANDARD
BEGIN:DAYLIGHT
TZOFFSETFROM:-0500
TZOFFSETTO:-0400
TZNAME:EDT
DTSTART:20250309T070000
END:DAYLIGHT
BEGIN:STANDARD
TZOFFSETFROM:-0400
TZOFFSETTO:-0500
TZNAME:EST
DTSTART:20251102T060000
END:STANDARD
END:VTIMEZONE
BEGIN:VEVENT
DTSTART;TZID=America/Toronto:20240508T183000
DTEND;TZID=America/Toronto:20240508T220000
DTSTAMP:20260419T145015
CREATED:20160412T115929Z
LAST-MODIFIED:20240430T162816Z
UID:3239-1715193000-1715205600@www.camdenbraes.com
SUMMARY:Members Spring Meeting & Social
DESCRIPTION:Camden Braes members executive cordially invites you to your spring meeting and social. \nCome and meet your executive\, fellow members & be inform on your golf course. Enjoy the social  life at The Braes ‘n Ale Pub & Grill. \nJoin us for some delicious snacks off the Bras ‘n Ale Pub and Grill menu. \nFollowed by the spring general meeting. Be inform coming into your 2024 golf season. Here is your chance to make a change and vote on tournaments & rules etc. \nMembers & Friends: It’s free & It’s for you! \nFood complements of The Braes ‘n Ale Pub & Grill
URL:http://www.camdenbraes.com/events/members-wine-cheese/
CATEGORIES:All Events & Holidays,Members Only
ATTACH;FMTTYPE=image/jpeg:http://www.camdenbraes.com/wp-content/uploads/2016/04/Wine-Cheese.jpg
END:VEVENT
BEGIN:VEVENT
DTSTART;TZID=America/Toronto:20240519T153000
DTEND;TZID=America/Toronto:20240519T220000
DTSTAMP:20260419T145015
CREATED:20160506T214254Z
LAST-MODIFIED:20240429T215711Z
UID:3763-1716132600-1716156000@www.camdenbraes.com
SUMMARY:All Match Play Members Events Starts
DESCRIPTION:Set your match up today\, don’t delay!\nCheck the brackets board located in the main hallway of the clubhouse. Contact your opponent. Set up your match. Have fun.
URL:http://www.camdenbraes.com/events/2-ball-presidents-challenge/
CATEGORIES:All Events & Holidays,Members Only
ATTACH;FMTTYPE=image/jpeg:http://www.camdenbraes.com/wp-content/uploads/2016/03/Past-Tournaments.jpg
END:VEVENT
BEGIN:VEVENT
DTSTART;VALUE=DATE:20240526
DTEND;VALUE=DATE:20240527
DTSTAMP:20260419T145015
CREATED:20160412T115906Z
LAST-MODIFIED:20240429T215327Z
UID:3238-1716681600-1716767999@www.camdenbraes.com
SUMMARY:Member's Opening Day Tournament
DESCRIPTION:Your First Member Tournament of the season. Come out and find out why Camden Braes has the kindest membership. Join up and help us all get to know your 2024 membership family. \nLike minded people having a great time playing the sport we all love. \nCLICK HERE TO SEE ALL PAST MEMBER’S EVENTS
URL:http://www.camdenbraes.com/events/members-opening-day-2/
CATEGORIES:All Events & Holidays,Members Only,Tournaments
ATTACH;FMTTYPE=image/jpeg:http://www.camdenbraes.com/wp-content/uploads/2018/06/images.jpg
END:VEVENT
END:VCALENDAR